BEGIN:VCALENDAR
VERSION:2.0
PRODID:-//Imkerverein Mörfelden-Walldorf - ECPv6.15.16//NONSGML v1.0//EN
CALSCALE:GREGORIAN
METHOD:PUBLISH
X-WR-CALNAME:Imkerverein Mörfelden-Walldorf
X-ORIGINAL-URL:https://imkerverein-mw.de
X-WR-CALDESC:Veranstaltungen für Imkerverein Mörfelden-Walldorf
REFRESH-INTERVAL;VALUE=DURATION:PT1H
X-Robots-Tag:noindex
X-PUBLISHED-TTL:PT1H
BEGIN:VTIMEZONE
TZID:Europe/Berlin
BEGIN:DAYLIGHT
TZOFFSETFROM:+0100
TZOFFSETTO:+0200
TZNAME:CEST
DTSTART:20230326T010000
END:DAYLIGHT
BEGIN:STANDARD
TZOFFSETFROM:+0200
TZOFFSETTO:+0100
TZNAME:CET
DTSTART:20231029T010000
END:STANDARD
BEGIN:DAYLIGHT
TZOFFSETFROM:+0100
TZOFFSETTO:+0200
TZNAME:CEST
DTSTART:20240331T010000
END:DAYLIGHT
BEGIN:STANDARD
TZOFFSETFROM:+0200
TZOFFSETTO:+0100
TZNAME:CET
DTSTART:20241027T010000
END:STANDARD
BEGIN:DAYLIGHT
TZOFFSETFROM:+0100
TZOFFSETTO:+0200
TZNAME:CEST
DTSTART:20250330T010000
END:DAYLIGHT
BEGIN:STANDARD
TZOFFSETFROM:+0200
TZOFFSETTO:+0100
TZNAME:CET
DTSTART:20251026T010000
END:STANDARD
BEGIN:DAYLIGHT
TZOFFSETFROM:+0100
TZOFFSETTO:+0200
TZNAME:CEST
DTSTART:20260329T010000
END:DAYLIGHT
BEGIN:STANDARD
TZOFFSETFROM:+0200
TZOFFSETTO:+0100
TZNAME:CET
DTSTART:20261025T010000
END:STANDARD
BEGIN:DAYLIGHT
TZOFFSETFROM:+0100
TZOFFSETTO:+0200
TZNAME:CEST
DTSTART:20270328T010000
END:DAYLIGHT
BEGIN:STANDARD
TZOFFSETFROM:+0200
TZOFFSETTO:+0100
TZNAME:CET
DTSTART:20271031T010000
END:STANDARD
END:VTIMEZONE
BEGIN:VEVENT
DTSTART;TZID=Europe/Berlin:20260409T193000
DTEND;TZID=Europe/Berlin:20260409T213000
DTSTAMP:20260425T154035
CREATED:20260112T143559Z
LAST-MODIFIED:20260223T171213Z
UID:368-1775763000-1775770200@imkerverein-mw.de
SUMMARY:Imkerstammtisch des Vereins
DESCRIPTION:Monatlicher Stammtisch zum Austausch innerhalb der Imkerschaft. Getränke und Snacks sind vorhanden. Das Treffen ist unverbindlich. \nIn der Regel werden folgende Themen besprochen: \n\nArbeiten im aktuellen Monat am Bienenvolk\nPlanungen des Jahres\nOffener Austausch zwischen den Mitgliedern zu Beobachtungen\, Problemen und Herausforderungen\nVorstellung von eigenen Projekten\nVorstellung von Vereinsprojekten
URL:https://imkerverein-mw.de/event/imkerstammtisch-des-vereins-4/
LOCATION:Kuba Mörfelden\, Bahnfofstr. 38\, Mörfelden-Walldorf\, 64546\, Deutschland
ATTACH;FMTTYPE=image/png:https://imkerverein-mw.de/wp-content/uploads/2026/01/1768169635259.png
ORGANIZER;CN="Imkerverein M%C3%B6rfelden-Walldorf":MAILTO:kontakt@imkerverein-mw.de
END:VEVENT
BEGIN:VEVENT
DTSTART;TZID=Europe/Berlin:20260329T100000
DTEND;TZID=Europe/Berlin:20260329T130000
DTSTAMP:20260425T154035
CREATED:20260220T102528Z
LAST-MODIFIED:20260220T102529Z
UID:395-1774778400-1774789200@imkerverein-mw.de
SUMMARY:Bienen im Jahresverlauf - Kick-Off
DESCRIPTION:Die Veranstaltungsreihe beginnt im März mit einem knapp einstündigen Vortrag zur Welt der Honigbiene im 1.\nStock des Umweltbildungszentrums (UBZ). Im Anschluss an den Vortrag findet eine erste Durchsicht der Völker\nauf dem nahe gelegenen Bienenhügel statt. Im Frühjahr werden die Winterbienen durch junge Sommerbienen\nabgelöst. Hier ist jetzt insbesondere die Größe des Brutnestes für den Imker von Bedeutung. Ein weiterer\nAspekt ist die Kontrolle des Futtervorrats der Völker und unter Umständen werden schon Honigräume\naufgesetzt.\n\nLeitung: Josef Kron\, Martin Schulmeyer\n\nTeilnehmerzahl: max. 20 Personen\nKostenbeitrag: 60 € pro Person/Familie für die ganze Reihe. Bei den Schleuderterminen gibt es 1 Glas\n\nFrühtrachthonig bzw. 1 Glas Sommertrachthonig.\nEine Einzelteilnahme/Termin für 10 € ist ebenso möglich.\n\nAnmeldung: UBZ Schatzinsel Kühkopf
URL:https://imkerverein-mw.de/event/bienen-im-jahresverlauf-kick-off/
LOCATION:Hofgut Guntershausen\, Außerhalb 27\, Stockstadt am Rhein\, 64589
ATTACH;FMTTYPE=image/jpeg:https://imkerverein-mw.de/wp-content/uploads/2024/06/WhatsApp-Bild-2024-06-23-um-11.06.16_e92f9b85.jpg
END:VEVENT
BEGIN:VEVENT
DTSTART;TZID=Europe/Berlin:20260312T193000
DTEND;TZID=Europe/Berlin:20260312T213000
DTSTAMP:20260425T154035
CREATED:20260111T173611Z
LAST-MODIFIED:20260223T171251Z
UID:366-1773343800-1773351000@imkerverein-mw.de
SUMMARY:Imkerstammtisch des Vereins
DESCRIPTION:Monatlicher Stammtisch zum Austausch innerhalb der Imkerschaft. Getränke und Snacks sind vorhanden. Das Treffen ist unverbindlich. \nIn der Regel werden folgende Themen besprochen: \n\nArbeiten im aktuellen Monat am Bienenvolk\nPlanungen des Jahres\nOffener Austausch zwischen den Mitgliedern zu Beobachtungen\, Problemen und Herausforderungen\nVorstellung von eigenen Projekten\nVorstellung von Vereinsprojekten
URL:https://imkerverein-mw.de/event/imkerstammtisch-des-vereins-3/
LOCATION:Kuba Mörfelden\, Bahnfofstr. 38\, Mörfelden-Walldorf\, 64546\, Deutschland
ATTACH;FMTTYPE=image/png:https://imkerverein-mw.de/wp-content/uploads/2026/01/ChatGPT-Image-11.-Jan.-2026-10_36_25.png
ORGANIZER;CN="Imkerverein M%C3%B6rfelden-Walldorf":MAILTO:kontakt@imkerverein-mw.de
END:VEVENT
BEGIN:VEVENT
DTSTART;TZID=Europe/Berlin:20260212T193000
DTEND;TZID=Europe/Berlin:20260212T213000
DTSTAMP:20260425T154035
CREATED:20260111T171223Z
LAST-MODIFIED:20260111T171223Z
UID:364-1770924600-1770931800@imkerverein-mw.de
SUMMARY:Imkerstammtisch des Vereins
DESCRIPTION:Monatlicher Stammtisch zum Austausch innerhalb der Imkerschaft. Getränke und Snacks sind vorhanden. Das Treffen ist unverbindlich. \nIn der Regel werden folgende Themen besprochen: \n\nArbeiten im aktuellen Monat am Bienenvolk\nPlanungen des Jahres\nOffener Austausch zwischen den Mitgliedern zu Beobachtungen\, Problemen und Herausforderungen\nVorstellung von eigenen Projekten\nVorstellung von Vereinsprojekten
URL:https://imkerverein-mw.de/event/imkerstammtisch-des-vereins-2/
LOCATION:Kuba Mörfelden\, Bahnfofstr. 38\, Mörfelden-Walldorf\, 64546\, Deutschland
ATTACH;FMTTYPE=image/png:https://imkerverein-mw.de/wp-content/uploads/2026/01/ChatGPT-Image-11.-Jan.-2026-17_43_08.png
ORGANIZER;CN="Imkerverein M%C3%B6rfelden-Walldorf":MAILTO:kontakt@imkerverein-mw.de
END:VEVENT
BEGIN:VEVENT
DTSTART;TZID=Europe/Berlin:20241211T193000
DTEND;TZID=Europe/Berlin:20241211T213000
DTSTAMP:20260425T154035
CREATED:20241027T072724Z
LAST-MODIFIED:20241027T072724Z
UID:344-1733945400-1733952600@imkerverein-mw.de
SUMMARY:Imkerstammtisch des Vereins – Dezember –
DESCRIPTION:Monatlicher Stammtisch zum Austausch innerhalb der Imkerschaft. Getränke und Snacks sind vorhanden. Das Treffen ist unverbindlich. \nIn der Regel werden folgende Themen besprochen: \n\nArbeiten im aktuellen Monat am Bienenvolk\nPlanungen des Jahres\nOffener Austausch zwischen den Mitgliedern zu Beobachtungen\, Problemen und Herausforderungen\nVorstellung von eigenen Projekten\nVorstellung von Vereinsprojekten
URL:https://imkerverein-mw.de/event/imkerstammtisch-des-vereins-dezember/
LOCATION:Kuba Mörfelden\, Bahnfofstr. 38\, Mörfelden-Walldorf\, 64546\, Deutschland
ATTACH;FMTTYPE=image/jpeg:https://imkerverein-mw.de/wp-content/uploads/2024/04/hofbrauhaus-3126255_640.jpg
ORGANIZER;CN="Imkerverein M%C3%B6rfelden-Walldorf":MAILTO:kontakt@imkerverein-mw.de
END:VEVENT
BEGIN:VEVENT
DTSTART;TZID=Europe/Berlin:20241114T193000
DTEND;TZID=Europe/Berlin:20241114T213000
DTSTAMP:20260425T154035
CREATED:20241027T072311Z
LAST-MODIFIED:20241027T072311Z
UID:341-1731612600-1731619800@imkerverein-mw.de
SUMMARY:Imkerstammtisch des Vereins - November - mit Workshop
DESCRIPTION:Monatlicher Stammtisch zum Austausch innerhalb der Imkerschaft. Getränke und Snacks sind vorhanden. Das Treffen ist unverbindlich. \nIn der Regel werden folgende Themen besprochen: \n\nArbeiten im aktuellen Monat am Bienenvolk\nPlanungen des Jahres\nOffener Austausch zwischen den Mitgliedern zu Beobachtungen\, Problemen und Herausforderungen\nVorstellung von eigenen Projekten\nVorstellung von Vereinsprojekten\n\nDarüber hinaus veranstalten wir einen Workshop zum Thema „Bannwabenverfahren“ \nDas Bannwabenverfahren ist eine wunderbare Möglichkeit die Varroalast im Volk ohne Einsatz von Chemie zu reduzieren. \nWer genaueres Wissen möchte kann sich hier etwas einlesen: \nhttps://imkerverein-mw.de/weiterbildung-fuer-vereinsmitglieder-das-bannwabenverfahren/\nhttps://llh.hessen.de/bildung/bieneninstitut-kirchhain/imkerei-wissen/bienengesundheit/varroa/behandlung/314_bannwabe/ \nIn diesem Workshop wollen wir gemeinsam nochmal das Thema verstehen und allen Teilnehmern näher bringen.\nAls Highlight erstellt jeder Teilnehmer\, entsprechend seiner Rahmengröße\, seine erste Bannwabe. \nTeilnahme kann unter der dem Link bestätigt werden:\nhttps://forms.gle/cvf3cwV44TwYxxXC9 \n 
URL:https://imkerverein-mw.de/event/imkerstammtisch-des-vereins-november-mit-workshop/
LOCATION:Kuba Mörfelden\, Bahnfofstr. 38\, Mörfelden-Walldorf\, 64546\, Deutschland
ATTACH;FMTTYPE=image/jpeg:https://imkerverein-mw.de/wp-content/uploads/2024/04/hofbrauhaus-3126255_640.jpg
ORGANIZER;CN="Imkerverein M%C3%B6rfelden-Walldorf":MAILTO:kontakt@imkerverein-mw.de
END:VEVENT
BEGIN:VEVENT
DTSTART;TZID=Europe/Berlin:20241010T193000
DTEND;TZID=Europe/Berlin:20241010T213000
DTSTAMP:20260425T154035
CREATED:20240917T100639Z
LAST-MODIFIED:20240917T100639Z
UID:328-1728588600-1728595800@imkerverein-mw.de
SUMMARY:Imkerstammtisch des Vereins – September–
DESCRIPTION:Monatlicher Stammtisch zum Austausch innerhalb der Imkerschaft. Getränke und Snacks sind vorhanden. Das Treffen ist unverbindlich. \nIn der Regel werden folgende Themen besprochen: \n\nArbeiten im aktuellen Monat am Bienenvolk\nPlanungen des Jahres\nOffener Austausch zwischen den Mitgliedern zu Beobachtungen\, Problemen und Herausforderungen\nVorstellung von eigenen Projekten\nVorstellung von Vereinsprojekten
URL:https://imkerverein-mw.de/event/imkerstammtisch-des-vereins-september/
LOCATION:Kuba Mörfelden\, Bahnfofstr. 38\, Mörfelden-Walldorf\, 64546\, Deutschland
ATTACH;FMTTYPE=image/jpeg:https://imkerverein-mw.de/wp-content/uploads/2024/04/hofbrauhaus-3126255_640.jpg
ORGANIZER;CN="Imkerverein M%C3%B6rfelden-Walldorf":MAILTO:kontakt@imkerverein-mw.de
END:VEVENT
BEGIN:VEVENT
DTSTART;TZID=Europe/Berlin:20240907T130000
DTEND;TZID=Europe/Berlin:20240907T190000
DTSTAMP:20260425T154035
CREATED:20240502T095929Z
LAST-MODIFIED:20240502T095929Z
UID:259-1725714000-1725735600@imkerverein-mw.de
SUMMARY:Fest der Vielfalt - Infostand und Honigverkauf
DESCRIPTION:Am 07.09.2024 erwartet euch ein Straßenfest der Superlative\, mit hunderten von Teilnehmern und Besuchern. Die Vielfalt unserer Stadtgemeinschaft zeigt sich einmal mehr auf den wenigen hundert Metern Straßenpflaster rund um den Treffpunkt Waldenserhof. Insgesamt 34 Vereine\, Initiativen und Familien wirken an diesem Ereignis mit. \nDer Imkerverein Mörfelden-Walldorf präsentiert einen Stand\, an dem ihr euch über Naturschutz\, Bienen und Nachhaltigkeit informieren könnt. Außerdem habt ihr die Möglichkeit\, Honig zu probieren und zu erwerben. \nBild von Freddy auf Pixabay
URL:https://imkerverein-mw.de/event/fest-der-vielfalt/
LOCATION:Waldenserhof\, Langstr. 71\, 64546 Mörfelden-Walldorf\, Langstr. 71\, Mörfelden-Walldorf\, Hessen\, 64546\, Deutschland
ATTACH;FMTTYPE=image/jpeg:https://imkerverein-mw.de/wp-content/uploads/2024/05/umbrella-2433970_1280.jpg
ORGANIZER;CN="Stadt M%C3%B6rfelden-Walldorf":MAILTO:info@morfelden-walldorf.de
END:VEVENT
BEGIN:VEVENT
DTSTART;TZID=Europe/Berlin:20240613T193000
DTEND;TZID=Europe/Berlin:20240613T213000
DTSTAMP:20260425T154035
CREATED:20240513T185643Z
LAST-MODIFIED:20240513T185643Z
UID:273-1718307000-1718314200@imkerverein-mw.de
SUMMARY:Imkerstammtisch des Vereins - Juni -
DESCRIPTION:Monatlicher Stammtisch zum Austausch innerhalb der Imkerschaft. Getränke und Snacks sind vorhanden. Das Treffen ist unverbindlich. \nIn der Regel werden folgende Themen besprochen: \n\nArbeiten im aktuellen Monat am Bienenvolk\nPlanungen des Jahres\nOffener Austausch zwischen den Mitgliedern zu Beobachtungen\, Problemen und Herausforderungen\nVorstellung von eigenen Projekten\nVorstellung von Vereinsprojekten
URL:https://imkerverein-mw.de/event/imkerstammtisch-des-vereins-juni/
LOCATION:Kuba Mörfelden\, Bahnfofstr. 38\, Mörfelden-Walldorf\, 64546\, Deutschland
ATTACH;FMTTYPE=image/jpeg:https://imkerverein-mw.de/wp-content/uploads/2024/04/hofbrauhaus-3126255_640.jpg
ORGANIZER;CN="Imkerverein M%C3%B6rfelden-Walldorf":MAILTO:kontakt@imkerverein-mw.de
END:VEVENT
BEGIN:VEVENT
DTSTART;TZID=Europe/Berlin:20240508T193000
DTEND;TZID=Europe/Berlin:20240508T213000
DTSTAMP:20260425T154035
CREATED:20240412T072724Z
LAST-MODIFIED:20240504T080935Z
UID:204-1715196600-1715203800@imkerverein-mw.de
SUMMARY:Imkerstammtisch des Vereins
DESCRIPTION:Monatlicher Stammtisch zum Austausch innerhalb der Imkerschaft. Getränke und Snacks sind vorhanden. Das Treffen ist unverbindlich. \nIn der Regel werden folgende Themen besprochen: \n\nArbeiten im aktuellen Monat am Bienenvolk\nPlanungen des Jahres\nOffener Austausch zwischen den Mitgliedern zu Beobachtungen\, Problemen und Herausforderungen\nVorstellung von eigenen Projekten\nVorstellung von Vereinsprojekten\n\n  \n!!!! ACHTUNG!!!! Termin wurde vorverlegt!
URL:https://imkerverein-mw.de/event/imkerstammtisch-des-vereins/
LOCATION:Kuba Mörfelden\, Bahnfofstr. 38\, Mörfelden-Walldorf\, 64546\, Deutschland
ATTACH;FMTTYPE=image/jpeg:https://imkerverein-mw.de/wp-content/uploads/2024/04/hofbrauhaus-3126255_640.jpg
ORGANIZER;CN="Imkerverein M%C3%B6rfelden-Walldorf":MAILTO:kontakt@imkerverein-mw.de
END:VEVENT
BEGIN:VEVENT
DTSTART;TZID=Europe/Berlin:20240501T110000
DTEND;TZID=Europe/Berlin:20240501T180000
DTSTAMP:20260425T154035
CREATED:20240412T123519Z
LAST-MODIFIED:20240417T113412Z
UID:217-1714561200-1714586400@imkerverein-mw.de
SUMMARY:Kühkopf-Frühlingsfest auf dem Hofgut Guntershausen - Infostand für den Hessischen Imkerbund e.V.
DESCRIPTION:10 Jahre UBZ Schatzinsel Kühkopf\nAm 01. Mai 2024 laden das Umweltbildungszentrum Schatzinsel-Kühkopf\, der Förderverein Hofgut Guntershausen e. V. und der Geo-Naturpark Bergstraße-Odenwald zum traditionellen Kühkopf-Frühlingsfest auf das Hofgut Guntershausen bei Stockstadt am Rhein ein. \nDer Imkerverein Mörfelden-Walldorf wird im Rahmen des Kühkopfprojektes das Imkern vorstellen. Je nach Wetterlage wird es Beschauung der „Kühkopf“-Bienenvölker geben. Verschiedene Honige der regionalen Imker können hier ebenfalls erworben werden. \nGeopark-vor-Ort-Begleiter und Ranger bieten ein breites naturpädagogisches Programm an. Kinder und Jugendliche können an einer Mikroskopierwerkstatt teilnehmen und kreativ die Auenlandschaft erkunden. Es gibt auch die Möglichkeit\, Nistkästen für Vögel zu bauen\, Informationen zum Leben am Bienenstand zu erhalten und am Schädelraten mit dem Fraport-Biologen teilzunehmen. \nBesucher erhalten außerdem Informationen über das Angebot des Geo-Naturparks Bergstraße-Odenwald aus erster Hand. Hessen Forst wird ebenfalls vertreten sein. \nEs werden deftige Speisen aus der Hofgutküche und dem Café Kühkopf sowie frisch geräucherte Forellen und Fischbrötchen am Stand des Angelsportclubs 1929 e. V. Stockstadt am Rhein angeboten. Kaffee und Kuchen sind ebenfalls erhältlich. \nDas Umweltbildungszentrum Schatzinsel-Kühkopf und das Stockstädter Museum im Verwalterhaus mit der aktuellen Kunstausstellung in der Galerie sind wie an jedem Wochenende geöffnet. Mitglieder des Fördervereins Hofgut Guntershausen und Mitarbeiter des Umweltbildungszentrums stehen als Ansprechpartner für Fragen zur Verfügung. \nBesucher\, die mit dem Auto anreisen\, werden auf den Parkplatz vor der Stockstädter Brücke verwiesen\, da der KFZ-Verkehr im Naturschutzgebiet verboten ist. \nWeitere Informationen finden Sie unter: \n\nHofgut Guntershausen: www.hofgut-guntershausen.de\nUmweltbildungszentrum Schatzinsel-Kühkopf: www.schatzinsel-kuehkopf.hessen.de
URL:https://imkerverein-mw.de/event/kuehkopf-fruehlingsfest-auf-dem-hofgut-guntershausen-infostand-fuer-den-hessischen-imkerbund-e-v/
LOCATION:Hofgut Guntershausen\, Außerhalb 27\, Stockstadt am Rhein\, 64589
ATTACH;FMTTYPE=image/jpeg:https://imkerverein-mw.de/wp-content/uploads/2024/04/peach-blossoms-7826528_640-e1713353634197.jpg
ORGANIZER;CN="Umweltbildungszentrum Schatzinsel K%C3%BChkopf":MAILTO:ralph.baumgaertel@forst.hessen.de
END:VEVENT
END:VCALENDAR